BEGIN:VCALENDAR
VERSION:2.0
PRODID:-//Bicester Vision - ECPv6.13.2.1//NONSGML v1.0//EN
CALSCALE:GREGORIAN
METHOD:PUBLISH
X-ORIGINAL-URL:https://bicestervision.co.uk
X-WR-CALDESC:Events for Bicester Vision
REFRESH-INTERVAL;VALUE=DURATION:PT1H
X-Robots-Tag:noindex
X-PUBLISHED-TTL:PT1H
BEGIN:VTIMEZONE
TZID:Europe/London
BEGIN:DAYLIGHT
TZOFFSETFROM:+0000
TZOFFSETTO:+0100
TZNAME:BST
DTSTART:20250330T010000
END:DAYLIGHT
BEGIN:STANDARD
TZOFFSETFROM:+0100
TZOFFSETTO:+0000
TZNAME:GMT
DTSTART:20251026T010000
END:STANDARD
END:VTIMEZONE
BEGIN:VEVENT
DTSTART;TZID=Europe/London:20251106T133000
DTEND;TZID=Europe/London:20251106T153000
DTSTAMP:20260419T195945
CREATED:20250514T141442Z
LAST-MODIFIED:20250702T160336Z
UID:320-1762435800-1762443000@bicestervision.co.uk
SUMMARY:Executive Board Meeting
DESCRIPTION:
URL:https://bicestervision.co.uk/event/exec-board-4/
CATEGORIES:Executive Board
END:VEVENT
BEGIN:VEVENT
DTSTART;TZID=Europe/London:20251002T133000
DTEND;TZID=Europe/London:20251002T153000
DTSTAMP:20260419T195945
CREATED:20250514T141025Z
LAST-MODIFIED:20250702T160357Z
UID:311-1759411800-1759419000@bicestervision.co.uk
SUMMARY:Executive Board Meeting
DESCRIPTION:
URL:https://bicestervision.co.uk/event/exec-board-3/
CATEGORIES:Executive Board
END:VEVENT
BEGIN:VEVENT
DTSTART;TZID=Europe/London:20250717T133000
DTEND;TZID=Europe/London:20250717T153000
DTSTAMP:20260419T195945
CREATED:20250514T140610Z
LAST-MODIFIED:20250702T160342Z
UID:302-1752759000-1752766200@bicestervision.co.uk
SUMMARY:Executive Board Meeting
DESCRIPTION:
URL:https://bicestervision.co.uk/event/exec-board-2/
CATEGORIES:Executive Board
END:VEVENT
BEGIN:VEVENT
DTSTART;TZID=Europe/London:20250605T133000
DTEND;TZID=Europe/London:20250605T153000
DTSTAMP:20260419T195945
CREATED:20250513T211824Z
LAST-MODIFIED:20250702T160348Z
UID:189-1749130200-1749137400@bicestervision.co.uk
SUMMARY:Executive Board Meeting
DESCRIPTION:
URL:https://bicestervision.co.uk/event/exec-board/
CATEGORIES:Executive Board
END:VEVENT
END:VCALENDAR