BEGIN:VCALENDAR
VERSION:2.0
PRODID:-//Bicester Vision - ECPv6.13.2.1//NONSGML v1.0//EN
CALSCALE:GREGORIAN
METHOD:PUBLISH
X-WR-CALNAME:Bicester Vision
X-ORIGINAL-URL:https://bicestervision.co.uk
X-WR-CALDESC:Events for Bicester Vision
REFRESH-INTERVAL;VALUE=DURATION:PT1H
X-Robots-Tag:noindex
X-PUBLISHED-TTL:PT1H
BEGIN:VTIMEZONE
TZID:Europe/London
BEGIN:DAYLIGHT
TZOFFSETFROM:+0000
TZOFFSETTO:+0100
TZNAME:BST
DTSTART:20250330T010000
END:DAYLIGHT
BEGIN:STANDARD
TZOFFSETFROM:+0100
TZOFFSETTO:+0000
TZNAME:GMT
DTSTART:20251026T010000
END:STANDARD
END:VTIMEZONE
BEGIN:VEVENT
DTSTART;TZID=Europe/London:20250925T150000
DTEND;TZID=Europe/London:20250925T170000
DTSTAMP:20260420T092015
CREATED:20250514T140702Z
LAST-MODIFIED:20250821T151206Z
UID:304-1758812400-1758819600@bicestervision.co.uk
SUMMARY:AI For Business: Partnership Meeting
DESCRIPTION:An evening exploring AI implementation\, innovation\, and leadership in a changing business landscape.\nWe are delighted to welcome you to our AI in Business Partnership Meeting\, hosted at Perch @ The Eco Business Centre. \nBook your free ticket here \nThis year’s theme –AI in Business – focuses on how organisations are integrating artificial intelligence into their operations\, and how leaders are adapting to guide their teams through rapid technological transformation. \nJoin us for an afternoon of insight and collaboration as we showcase practical applications of AI\, discuss the strategic shifts required for long-term success\, and hear from key voices at the forefront of AI-driven business evolution. \nAgenda Highlights\nWelcome to Perch @ The Eco Business Centre – a sustainable coworking space for freelancers\, startups\, and small businesses in Bicester. \nGuest Speakers: \n\nGrae Laws– Bicester Vision – An introduction to AI\n\n\nSteve Nicholls – Bizedge.ai – Driving Business Success Through Effective AI Implementation\nCecile Hemery – Walayance – Leading with Purpose in an AI-Driven World\n\nInteractive Q&A – Your chance to engage directly with the speakers and share views. \nNetworking & Refreshments – Mingle with business leaders\, stakeholders\, and partners over drinks in a unique and inspiring venue. \nMeet our speakers:\nSteve Nicholls: Bizedge.ai \nSteve Nicholls is a strategic advisor and AI implementation specialist with over 30 years of international experience spanning telecoms\, technology\, and organisational transformation. \nAs the founder of Bizedge.ai\, Steve helps small to mid-sized organisations unlock real business value from AI through strategic audits\, opportunity assessments\, readiness reviews\, and roadmap development. \nCecile Hemery: Walayance \nCecile Hemery is a leadership and career coach\, hypnotherapist\, supervisor\, trainer\, and speaker who helps thoughtful leaders reclaim their confidence and impact\, without pretending to be someone they’re not. \nCecile also delivers training on leadership within the AI sector\, empowering leaders to navigate rapid technological change with authenticity\, ethical awareness\, and human-centred vision. \nOpen to all. \nSpaces are limited – reserve your place today.
URL:https://bicestervision.co.uk/event/partnership-meeting/
LOCATION:Perch @ Eco Businss Centre\, The Eco Business Centre\, Elmsbrook\, Charlotte Avenue\, Bicester\, Oxfordshire\, OX27 8BL\, United Kingdom
CATEGORIES:Partners
ORGANIZER;CN="Bicester Vision":MAILTO:info@bicestervision.co.uk
END:VEVENT
END:VCALENDAR